BEGIN:VCALENDAR
VERSION:2.0
PRODID:-//Spring School - ECPv6.8.3//NONSGML v1.0//EN
CALSCALE:GREGORIAN
METHOD:PUBLISH
X-WR-CALNAME:Spring School
X-ORIGINAL-URL:https://springschool.me/ja
X-WR-CALDESC:Spring School のイベント
REFRESH-INTERVAL;VALUE=DURATION:PT1H
X-Robots-Tag:noindex
X-PUBLISHED-TTL:PT1H
BEGIN:VTIMEZONE
TZID:UTC
BEGIN:STANDARD
TZOFFSETFROM:+0000
TZOFFSETTO:+0000
TZNAME:UTC
DTSTART:20220101T000000
END:STANDARD
END:VTIMEZONE
BEGIN:VEVENT
DTSTART;VALUE=DATE:20220501
DTEND;VALUE=DATE:20220502
DTSTAMP:20260420T125303
CREATED:20221129T221943Z
LAST-MODIFIED:20230126T121849Z
UID:4934-1651363200-1651449599@springschool.me
SUMMARY:Costume Party 2022
DESCRIPTION:  \n		\n						\n						\n					\n			\n						\n				\n					\n							\n					\n											\n														\n							\n					\n											\n														\n							\n					\n											\n														\n							\n					\n											\n														\n							\n					\n											\n														\n							\n					\n											\n														\n							\n					\n											\n														\n							\n					\n											\n														\n							\n					\n											\n														\n							\n					\n											\n														\n							\n					\n											\n														\n							\n					\n											\n														\n							\n					\n											\n														\n							\n					\n											\n														\n							\n					\n											\n														\n							\n					\n											\n														\n							\n					\n											\n														\n							\n					\n											\n														\n							\n					\n											\n														\n							\n					\n											\n														\n							\n					\n											\n														\n							\n					\n											\n														\n							\n					\n											\n														\n							\n					\n											\n														\n							\n					\n											\n														\n							\n					\n											\n														\n							\n					\n											\n														\n							\n					\n											\n														\n							\n					\n											\n														\n							\n					\n											\n														\n							\n					\n											\n														\n							\n					\n											\n														\n							\n					\n											\n														\n							\n					\n											\n														\n							\n					\n											\n														\n							\n					\n											\n														\n							\n					\n											\n														\n							\n					\n											\n														\n							\n					\n											\n														\n							\n					\n											\n														\n							\n					\n											\n														\n							\n					\n											\n														\n							\n					\n											\n														\n							\n					\n											\n														\n							\n					\n											\n														\n							\n					\n											\n														\n							\n					\n											\n														\n							\n					\n											\n														\n							\n					\n											\n														\n							\n					\n											\n														\n					\n			\n				\n					\n		\n					\n		\n				\n		\n  \n 
URL:https://springschool.me/ja/evento/costume-party/
ATTACH;FMTTYPE=image/jpeg:https://springschool.me/wp-content/uploads/2022/11/spring-school-costume-party-destaque.jpg
END:VEVENT
BEGIN:VEVENT
DTSTART;VALUE=DATE:20220530
DTEND;VALUE=DATE:20220531
DTSTAMP:20260420T125303
CREATED:20210304T061217Z
LAST-MODIFIED:20230126T121818Z
UID:447-1653868800-1653955199@springschool.me
SUMMARY:Graduação dos Alunos
DESCRIPTION: 
URL:https://springschool.me/ja/evento/graduacao-dos-alunos/
ATTACH;FMTTYPE=image/jpeg:https://springschool.me/wp-content/uploads/2021/03/spring-school-graduacao-destaque.jpg
END:VEVENT
END:VCALENDAR