BEGIN:VCALENDAR
VERSION:2.0
PRODID:-//Spring School - ECPv6.8.3//NONSGML v1.0//EN
CALSCALE:GREGORIAN
METHOD:PUBLISH
X-WR-CALNAME:Spring School
X-ORIGINAL-URL:https://springschool.me/en
X-WR-CALDESC:Events for Spring School
REFRESH-INTERVAL;VALUE=DURATION:PT1H
X-Robots-Tag:noindex
X-PUBLISHED-TTL:PT1H
BEGIN:VTIMEZONE
TZID:UTC
BEGIN:STANDARD
TZOFFSETFROM:+0000
TZOFFSETTO:+0000
TZNAME:UTC
DTSTART:20220101T000000
END:STANDARD
END:VTIMEZONE
BEGIN:VEVENT
DTSTART;VALUE=DATE:20220704
DTEND;VALUE=DATE:20220705
DTSTAMP:20260420T094834
CREATED:20221129T221434Z
LAST-MODIFIED:20230126T121604Z
UID:4932-1656892800-1656979199@springschool.me
SUMMARY:4th July/七夕 2022
DESCRIPTION: 
URL:https://springschool.me/en/evento/4th-july/
ATTACH;FMTTYPE=image/jpeg:https://springschool.me/wp-content/uploads/2022/11/spring-school-4th-july-destaque.jpg
END:VEVENT
BEGIN:VEVENT
DTSTART;VALUE=DATE:20220704
DTEND;VALUE=DATE:20220705
DTSTAMP:20260420T094834
CREATED:20210304T060315Z
LAST-MODIFIED:20230126T121651Z
UID:440-1656892800-1656979199@springschool.me
SUMMARY:Karaoke and Bowling - 2022
DESCRIPTION: 
URL:https://springschool.me/en/evento/karaoke-and-bowling/
ATTACH;FMTTYPE=image/jpeg:https://springschool.me/wp-content/uploads/2021/03/spring-school-bowling-destaque.jpg
END:VEVENT
END:VCALENDAR