BEGIN:VCALENDAR
VERSION:2.0
PRODID:-//Spring School - ECPv6.8.3//NONSGML v1.0//EN
CALSCALE:GREGORIAN
METHOD:PUBLISH
X-WR-CALNAME:Spring School
X-ORIGINAL-URL:https://springschool.me/en
X-WR-CALDESC:Events for Spring School
REFRESH-INTERVAL;VALUE=DURATION:PT1H
X-Robots-Tag:noindex
X-PUBLISHED-TTL:PT1H
BEGIN:VTIMEZONE
TZID:UTC
BEGIN:STANDARD
TZOFFSETFROM:+0000
TZOFFSETTO:+0000
TZNAME:UTC
DTSTART:20220101T000000
END:STANDARD
END:VTIMEZONE
BEGIN:VEVENT
DTSTART;VALUE=DATE:20220602
DTEND;VALUE=DATE:20220603
DTSTAMP:20260420T160351
CREATED:20210317T063032Z
LAST-MODIFIED:20230126T121752Z
UID:515-1654128000-1654214399@springschool.me
SUMMARY:Spring Passport
DESCRIPTION:Spring Passport \nAgora os nossos Springers possuem CIDADANIA \nTodos os nossos alunos receberão a sua avaliação diária de desenvolvimento através do Spring Passport.\nAgora ficou ainda mais fácil e divertido estudar e evoluir com a Spring School \nSpring your Life  \n		\n						\n						\n					\n			\n						\n				\n					\n							\n					\n											\n														\n							\n					\n											\n														\n							\n					\n											\n														\n							\n					\n											\n														\n							\n					\n											\n														\n							\n					\n											\n														\n							\n					\n											\n														\n							\n					\n											\n														\n							\n					\n											\n														\n							\n					\n											\n														\n							\n					\n											\n														\n							\n					\n											\n														\n							\n					\n											\n														\n							\n					\n											\n														\n							\n					\n											\n														\n							\n					\n											\n														\n							\n					\n											\n														\n							\n					\n											\n														\n							\n					\n											\n														\n							\n					\n											\n														\n							\n					\n											\n														\n							\n					\n											\n														\n							\n					\n											\n														\n							\n					\n											\n														\n							\n					\n											\n														\n							\n					\n											\n														\n							\n					\n											\n														\n							\n					\n											\n														\n							\n					\n											\n														\n							\n					\n											\n														\n							\n					\n											\n														\n							\n					\n											\n														\n							\n					\n											\n														\n							\n					\n											\n														\n							\n					\n											\n														\n							\n					\n											\n														\n							\n					\n											\n														\n							\n					\n											\n														\n							\n					\n											\n														\n							\n					\n											\n														\n							\n					\n											\n														\n							\n					\n											\n														\n							\n					\n											\n														\n							\n					\n											\n														\n							\n					\n											\n														\n							\n					\n											\n														\n							\n					\n											\n														\n							\n					\n											\n														\n							\n					\n											\n														\n							\n					\n											\n														\n					\n			\n				\n					\n		\n					\n		\n				\n		\n  \n 
URL:https://springschool.me/en/evento/spring-passport/
ATTACH;FMTTYPE=image/jpeg:https://springschool.me/wp-content/uploads/2021/03/spring-school-passport-destaque.jpg
END:VEVENT
END:VCALENDAR